BEGIN:VCALENDAR
PRODID:-//PUBBLE//agenda//NL
VERSION:2.0
METHOD:PUBLISH
BEGIN:VEVENT
DTSTART:20250706T100000Z
DTEND:20250706T110000Z
DTSTAMP:20260425T125926Z
UID:4adf882d-6c34-43cd-aade-62ef5d19a62c
CREATED:20260425T125926Z
NAME:Lunchconcert Kleinkoor Vivente Harreveld achterhoeknieuwsborculoruurlo.nl
X-WR-CALNAME:Lunchconcert Kleinkoor Vivente Harreveld
X-ALT-DESC;FMTTYPE=text/html:<a href='/agenda/2025/7/6/lunchconcert-kleinkoor-vivente-harreveld-522351'>/agenda/2025/7/6/lunchconcert-kleinkoor-vivente-harreveld-522351</a> || <p>Op zondag 6 juli geeft Kleinkoor Vivente onder leiding van dirigent Jan Draaijer en begeleidt door pianist Julian Simmes een zomers lunchconcert in de St. Agathakerk in Harreveld.</p><p>Kleinkoor Vivente brengt een gevarieerd programma in verschillende talen dat raakt en verrast. Het repertoire loopt uiteen van dromerige Scandinavische klanken tot vrolijke liederen en meeslepende koorstukken. Na afloop trakteert het koor het publiek op een drankje met hapjes. Grote eters worden aangeraden ook zelf een boterham mee te nemen.</p><p>De toegang is gratis, maar een vrijwillige bijdrage in de kosten wordt op prijs gesteld.</p>
DESCRIPTION:<a href='/agenda/2025/7/6/lunchconcert-kleinkoor-vivente-harreveld-522351'>/agenda/2025/7/6/lunchconcert-kleinkoor-vivente-harreveld-522351</a> || <p>Op zondag 6 juli geeft Kleinkoor Vivente onder leiding van dirigent Jan Draaijer en begeleidt door pianist Julian Simmes een zomers lunchconcert in de St. Agathakerk in Harreveld.</p><p>Kleinkoor Vivente brengt een gevarieerd programma in verschillende talen dat raakt en verrast. Het repertoire loopt uiteen van dromerige Scandinavische klanken tot vrolijke liederen en meeslepende koorstukken. Na afloop trakteert het koor het publiek op een drankje met hapjes. Grote eters worden aangeraden ook zelf een boterham mee te nemen.</p><p>De toegang is gratis, maar een vrijwillige bijdrage in de kosten wordt op prijs gesteld.</p>
LAST-MODIFIED:20260425T125926Z
LOCATION: H. Agathakerk | Kerstraat 38a Harreveld
SEQUENCE:0
STATUS:CONFIRMED
SUMMARY:Lunchconcert Kleinkoor Vivente Harreveld
TRANSP:OPAQUE
END:VEVENT
END:VCALENDAR
